Package: scifer Version: 1.13.0 Command: rm -rf scifer.buildbin-libdir && mkdir scifer.buildbin-libdir && /Users/biocbuild/BBS/utils/build-universal.sh scifer_1.13.0.tar.gz /Library/Frameworks/R.framework/Resources/bin/R scifer.buildbin-libdir StartedAt: 2025-11-18 23:58:45 -0500 (Tue, 18 Nov 2025) EndedAt: 2025-11-18 23:58:55 -0500 (Tue, 18 Nov 2025) EllapsedTime: 10.2 seconds RetCode: 0 Status: OK PackageFile: scifer_1.13.0.tgz PackageFileSize: 1.56 MiB