Package: scifer Version: 1.13.0 Command: /Library/Frameworks/R.framework/Resources/bin/R CMD build --keep-empty-dirs --no-resave-data scifer StartedAt: 2025-11-18 17:45:25 -0500 (Tue, 18 Nov 2025) EndedAt: 2025-11-18 17:45:59 -0500 (Tue, 18 Nov 2025) EllapsedTime: 34.4 seconds RetCode: 0 Status: OK PackageFile: scifer_1.13.0.tar.gz PackageFileSize: 1.524 MiB