Package: scifer Version: 1.13.0 Command: /Library/Frameworks/R.framework/Resources/bin/R CMD INSTALL scifer StartedAt: 2025-11-18 15:37:10 -0500 (Tue, 18 Nov 2025) EndedAt: 2025-11-18 15:37:18 -0500 (Tue, 18 Nov 2025) EllapsedTime: 7.3 seconds RetCode: 0 Status: OK