Package: scifer Version: 1.13.0 Command: rm -rf scifer.buildbin-libdir && mkdir scifer.buildbin-libdir && /Users/biocbuild/BBS/utils/build-universal.sh scifer_1.13.0.tar.gz /Library/Frameworks/R.framework/Resources/bin/R scifer.buildbin-libdir StartedAt: 2025-11-19 01:51:07 -0500 (Wed, 19 Nov 2025) EndedAt: 2025-11-19 01:51:38 -0500 (Wed, 19 Nov 2025) EllapsedTime: 31.1 seconds RetCode: 0 Status: OK PackageFile: scifer_1.13.0.tgz PackageFileSize: 1.562 MiB