Package: scifer Version: 1.13.0 Command: /Library/Frameworks/R.framework/Resources/bin/R CMD INSTALL scifer StartedAt: 2025-11-19 15:47:23 -0500 (Wed, 19 Nov 2025) EndedAt: 2025-11-19 15:47:47 -0500 (Wed, 19 Nov 2025) EllapsedTime: 24.6 seconds RetCode: 0 Status: OK