Package: scmeth Version: 1.31.0 Command: rm -rf scmeth.buildbin-libdir && mkdir scmeth.buildbin-libdir && /Users/biocbuild/BBS/utils/build-universal.sh scmeth_1.31.0.tar.gz /Library/Frameworks/R.framework/Resources/bin/R scmeth.buildbin-libdir StartedAt: 2025-11-18 23:58:52 -0500 (Tue, 18 Nov 2025) EndedAt: 2025-11-18 23:59:15 -0500 (Tue, 18 Nov 2025) EllapsedTime: 23.5 seconds RetCode: 0 Status: OK PackageFile: scmeth_1.31.0.tgz PackageFileSize: 823.5 KiB