Package: scmeth Version: 1.31.0 Command: /Library/Frameworks/R.framework/Resources/bin/R CMD build --keep-empty-dirs --no-resave-data scmeth StartedAt: 2025-11-18 17:45:48 -0500 (Tue, 18 Nov 2025) EndedAt: 2025-11-18 17:46:30 -0500 (Tue, 18 Nov 2025) EllapsedTime: 41.5 seconds RetCode: 0 Status: OK PackageFile: scmeth_1.31.0.tar.gz PackageFileSize: 775.7 KiB