Package: scmeth Version: 1.31.0 Command: /Library/Frameworks/R.framework/Resources/bin/R CMD INSTALL scmeth StartedAt: 2025-11-18 15:32:47 -0500 (Tue, 18 Nov 2025) EndedAt: 2025-11-18 15:33:06 -0500 (Tue, 18 Nov 2025) EllapsedTime: 19.2 seconds RetCode: 0 Status: OK