Package: scran Version: 1.39.0 Command: /Library/Frameworks/R.framework/Resources/bin/R CMD build --keep-empty-dirs --no-resave-data scran StartedAt: 2025-11-18 17:46:38 -0500 (Tue, 18 Nov 2025) EndedAt: 2025-11-18 17:47:55 -0500 (Tue, 18 Nov 2025) EllapsedTime: 76.9 seconds RetCode: 0 Status: OK PackageFile: scran_1.39.0.tar.gz PackageFileSize: 1.836 MiB