Package: scran Version: 1.39.0 Command: /Library/Frameworks/R.framework/Resources/bin/R CMD INSTALL scran StartedAt: 2025-11-18 15:38:56 -0500 (Tue, 18 Nov 2025) EndedAt: 2025-11-18 15:39:19 -0500 (Tue, 18 Nov 2025) EllapsedTime: 22.9 seconds RetCode: 0 Status: OK