Package: scran Version: 1.39.0 Command: /Library/Frameworks/R.framework/Resources/bin/R CMD build --keep-empty-dirs --no-resave-data scran StartedAt: 2025-11-24 18:36:49 -0500 (Mon, 24 Nov 2025) EndedAt: 2025-11-24 18:40:24 -0500 (Mon, 24 Nov 2025) EllapsedTime: 214.4 seconds RetCode: 0 Status: OK PackageFile: scran_1.39.0.tar.gz PackageFileSize: 1.83 MiB