Package: scuttle Version: 1.21.0 Command: /Library/Frameworks/R.framework/Resources/bin/R CMD build --keep-empty-dirs --no-resave-data scuttle StartedAt: 2025-11-19 17:38:25 -0500 (Wed, 19 Nov 2025) EndedAt: 2025-11-19 17:39:32 -0500 (Wed, 19 Nov 2025) EllapsedTime: 67.8 seconds RetCode: 0 Status: OK PackageFile: scuttle_1.21.0.tar.gz PackageFileSize: 1006 KiB