Package: scuttle Version: 1.21.0 Command: /Library/Frameworks/R.framework/Resources/bin/R CMD check --install=check:scuttle.install-out.txt --library=/Library/Frameworks/R.framework/Resources/library --no-vignettes --timings scuttle_1.21.0.tar.gz StartedAt: 2025-11-25 22:26:39 -0500 (Tue, 25 Nov 2025) EndedAt: 2025-11-25 22:29:11 -0500 (Tue, 25 Nov 2025) EllapsedTime: 152.0 seconds RetCode: 0 Status: OK CheckDir: scuttle.Rcheck Warnings: 0