Package: scuttle Version: 1.21.0 Command: /Library/Frameworks/R.framework/Resources/bin/R CMD INSTALL scuttle StartedAt: 2025-11-19 15:13:41 -0500 (Wed, 19 Nov 2025) EndedAt: 2025-11-19 15:14:03 -0500 (Wed, 19 Nov 2025) EllapsedTime: 21.2 seconds RetCode: 0 Status: OK