Package: scuttle Version: 1.21.0 Command: rm -rf scuttle.buildbin-libdir && mkdir scuttle.buildbin-libdir && /Users/biocbuild/BBS/utils/build-universal.sh scuttle_1.21.0.tar.gz /Library/Frameworks/R.framework/Resources/bin/R scuttle.buildbin-libdir StartedAt: 2025-11-20 01:56:04 -0500 (Thu, 20 Nov 2025) EndedAt: 2025-11-20 01:57:32 -0500 (Thu, 20 Nov 2025) EllapsedTime: 87.5 seconds RetCode: 0 Status: OK PackageFile: scuttle_1.21.0.tgz PackageFileSize: 1.281 MiB