Package: scuttle Version: 1.21.0 Command: /home/biocbuild/bbs-3.23-bioc/R/bin/R CMD INSTALL scuttle StartedAt: 2025-11-19 15:22:26 -0500 (Wed, 19 Nov 2025) EndedAt: 2025-11-19 15:23:35 -0500 (Wed, 19 Nov 2025) EllapsedTime: 69.0 seconds RetCode: 0 Status: OK