Package: segmentSeq Version: 2.45.0 Command: /Library/Frameworks/R.framework/Resources/bin/R CMD build --keep-empty-dirs --no-resave-data segmentSeq StartedAt: 2025-11-18 17:48:48 -0500 (Tue, 18 Nov 2025) EndedAt: 2025-11-18 17:49:50 -0500 (Tue, 18 Nov 2025) EllapsedTime: 61.7 seconds RetCode: 0 Status: OK PackageFile: segmentSeq_2.45.0.tar.gz PackageFileSize: 3.075 MiB