Package: segmentSeq Version: 2.45.0 Command: /Library/Frameworks/R.framework/Resources/bin/R CMD INSTALL segmentSeq StartedAt: 2025-11-18 15:36:49 -0500 (Tue, 18 Nov 2025) EndedAt: 2025-11-18 15:37:05 -0500 (Tue, 18 Nov 2025) EllapsedTime: 15.6 seconds RetCode: 0 Status: OK