Package: segmentSeq Version: 2.45.0 Command: rm -rf segmentSeq.buildbin-libdir && mkdir segmentSeq.buildbin-libdir && /Users/biocbuild/BBS/utils/build-universal.sh segmentSeq_2.45.0.tar.gz /Library/Frameworks/R.framework/Resources/bin/R segmentSeq.buildbin-libdir StartedAt: 2025-11-20 01:56:11 -0500 (Thu, 20 Nov 2025) EndedAt: 2025-11-20 01:57:06 -0500 (Thu, 20 Nov 2025) EllapsedTime: 55.2 seconds RetCode: 0 Status: OK PackageFile: segmentSeq_2.45.0.tgz PackageFileSize: 3.816 MiB