Package: segmentSeq Version: 2.45.0 Command: /Library/Frameworks/R.framework/Resources/bin/R CMD INSTALL segmentSeq StartedAt: 2025-11-18 15:46:20 -0500 (Tue, 18 Nov 2025) EndedAt: 2025-11-18 15:47:12 -0500 (Tue, 18 Nov 2025) EllapsedTime: 51.9 seconds RetCode: 0 Status: OK