Package: segmentSeq Version: 2.45.0 Command: /home/biocbuild/bbs-3.23-bioc/R/bin/R CMD INSTALL segmentSeq StartedAt: 2025-11-18 16:44:33 -0500 (Tue, 18 Nov 2025) EndedAt: 2025-11-18 16:45:09 -0500 (Tue, 18 Nov 2025) EllapsedTime: 36.5 seconds RetCode: 0 Status: OK