Package: segmenter Version: 1.17.0 Command: /Library/Frameworks/R.framework/Resources/bin/R CMD INSTALL segmenter StartedAt: 2025-11-18 15:42:02 -0500 (Tue, 18 Nov 2025) EndedAt: 2025-11-18 15:42:20 -0500 (Tue, 18 Nov 2025) EllapsedTime: 18.4 seconds RetCode: 0 Status: OK