Package: segmenter Version: 1.17.0 Command: rm -rf segmenter.buildbin-libdir && mkdir segmenter.buildbin-libdir && /Users/biocbuild/BBS/utils/build-universal.sh segmenter_1.17.0.tar.gz /Library/Frameworks/R.framework/Resources/bin/R segmenter.buildbin-libdir StartedAt: 2025-11-20 01:56:10 -0500 (Thu, 20 Nov 2025) EndedAt: 2025-11-20 01:57:15 -0500 (Thu, 20 Nov 2025) EllapsedTime: 65.6 seconds RetCode: 0 Status: OK PackageFile: segmenter_1.17.0.tgz PackageFileSize: 4.374 MiB