Package: segmenter Version: 1.17.0 Command: /Library/Frameworks/R.framework/Resources/bin/R CMD build --keep-empty-dirs --no-resave-data segmenter StartedAt: 2025-11-19 18:41:40 -0500 (Wed, 19 Nov 2025) EndedAt: 2025-11-19 18:49:00 -0500 (Wed, 19 Nov 2025) EllapsedTime: 439.9 seconds RetCode: 0 Status: OK PackageFile: segmenter_1.17.0.tar.gz PackageFileSize: 3.995 MiB