Package: segmenter Version: 1.17.0 Command: /home/biocbuild/bbs-3.23-bioc/R/bin/R CMD build --keep-empty-dirs --no-resave-data segmenter StartedAt: 2025-11-19 20:02:06 -0500 (Wed, 19 Nov 2025) EndedAt: 2025-11-19 20:09:19 -0500 (Wed, 19 Nov 2025) EllapsedTime: 432.5 seconds RetCode: 0 Status: OK PackageFile: segmenter_1.17.0.tar.gz PackageFileSize: 3.983 MiB