Package: seqPattern Version: 1.43.0 Command: /Library/Frameworks/R.framework/Resources/bin/R CMD build --keep-empty-dirs --no-resave-data seqPattern StartedAt: 2025-11-19 17:39:43 -0500 (Wed, 19 Nov 2025) EndedAt: 2025-11-19 17:39:58 -0500 (Wed, 19 Nov 2025) EllapsedTime: 15.2 seconds RetCode: 0 Status: OK PackageFile: seqPattern_1.43.0.tar.gz PackageFileSize: 5.368 MiB