Package: seqPattern Version: 1.43.0 Command: /Library/Frameworks/R.framework/Resources/bin/R CMD build --keep-empty-dirs --no-resave-data seqPattern StartedAt: 2025-11-19 18:42:56 -0500 (Wed, 19 Nov 2025) EndedAt: 2025-11-19 18:43:35 -0500 (Wed, 19 Nov 2025) EllapsedTime: 38.9 seconds RetCode: 0 Status: OK PackageFile: seqPattern_1.43.0.tar.gz PackageFileSize: 5.367 MiB