Package: seqPattern Version: 1.43.0 Command: /Library/Frameworks/R.framework/Resources/bin/R CMD INSTALL seqPattern StartedAt: 2025-11-18 15:21:45 -0500 (Tue, 18 Nov 2025) EndedAt: 2025-11-18 15:22:02 -0500 (Tue, 18 Nov 2025) EllapsedTime: 17.4 seconds RetCode: 0 Status: OK