Package: shinybiocloader Version: 1.1.0 Command: rm -rf shinybiocloader.buildbin-libdir && mkdir shinybiocloader.buildbin-libdir && /Users/biocbuild/BBS/utils/build-universal.sh shinybiocloader_1.1.0.tar.gz /Library/Frameworks/R.framework/Resources/bin/R shinybiocloader.buildbin-libdir StartedAt: 2025-11-19 23:53:13 -0500 (Wed, 19 Nov 2025) EndedAt: 2025-11-19 23:53:15 -0500 (Wed, 19 Nov 2025) EllapsedTime: 2.0 seconds RetCode: 0 Status: OK PackageFile: shinybiocloader_1.1.0.tgz PackageFileSize: 37.73 KiB