Package: shinybiocloader Version: 1.1.0 Command: /Library/Frameworks/R.framework/Resources/bin/R CMD build --keep-empty-dirs --no-resave-data shinybiocloader StartedAt: 2025-11-19 17:40:24 -0500 (Wed, 19 Nov 2025) EndedAt: 2025-11-19 17:40:28 -0500 (Wed, 19 Nov 2025) EllapsedTime: 4.1 seconds RetCode: 0 Status: OK PackageFile: shinybiocloader_1.1.0.tar.gz PackageFileSize: 28.62 KiB