Package: shinybiocloader Version: 1.1.0 Command: /Library/Frameworks/R.framework/Resources/bin/R CMD INSTALL shinybiocloader StartedAt: 2025-11-19 15:06:17 -0500 (Wed, 19 Nov 2025) EndedAt: 2025-11-19 15:06:33 -0500 (Wed, 19 Nov 2025) EllapsedTime: 15.8 seconds RetCode: 0 Status: OK