Package: shinybiocloader Version: 1.1.0 Command: /Library/Frameworks/R.framework/Resources/bin/R CMD build --keep-empty-dirs --no-resave-data shinybiocloader StartedAt: 2025-11-19 18:44:06 -0500 (Wed, 19 Nov 2025) EndedAt: 2025-11-19 18:44:21 -0500 (Wed, 19 Nov 2025) EllapsedTime: 14.9 seconds RetCode: 0 Status: OK PackageFile: shinybiocloader_1.1.0.tar.gz PackageFileSize: 28.81 KiB