Package: shinybiocloader Version: 1.1.0 Command: /Library/Frameworks/R.framework/Resources/bin/R CMD INSTALL shinybiocloader StartedAt: 2025-11-18 15:14:07 -0500 (Tue, 18 Nov 2025) EndedAt: 2025-11-18 15:14:44 -0500 (Tue, 18 Nov 2025) EllapsedTime: 36.8 seconds RetCode: 0 Status: OK