Package: shinybiocloader Version: 1.1.0 Command: /home/biocbuild/bbs-3.23-bioc/R/bin/R CMD INSTALL shinybiocloader StartedAt: 2025-11-18 16:00:41 -0500 (Tue, 18 Nov 2025) EndedAt: 2025-11-18 16:01:11 -0500 (Tue, 18 Nov 2025) EllapsedTime: 30.0 seconds RetCode: 0 Status: OK