Package: sigFeature Version: 1.29.0 Command: rm -rf sigFeature.buildbin-libdir && mkdir sigFeature.buildbin-libdir && /Users/biocbuild/BBS/utils/build-universal.sh sigFeature_1.29.0.tar.gz /Library/Frameworks/R.framework/Resources/bin/R sigFeature.buildbin-libdir StartedAt: 2025-11-19 00:00:00 -0500 (Wed, 19 Nov 2025) EndedAt: 2025-11-19 00:00:12 -0500 (Wed, 19 Nov 2025) EllapsedTime: 12.3 seconds RetCode: 0 Status: OK PackageFile: sigFeature_1.29.0.tgz PackageFileSize: 503.3 KiB