Package: sigFeature Version: 1.29.0 Command: /Library/Frameworks/R.framework/Resources/bin/R CMD build --keep-empty-dirs --no-resave-data sigFeature StartedAt: 2025-11-18 17:50:33 -0500 (Tue, 18 Nov 2025) EndedAt: 2025-11-18 17:50:49 -0500 (Tue, 18 Nov 2025) EllapsedTime: 15.2 seconds RetCode: 0 Status: OK PackageFile: sigFeature_1.29.0.tar.gz PackageFileSize: 369.9 KiB