Package: sigFeature Version: 1.29.0 Command: /Library/Frameworks/R.framework/Resources/bin/R CMD INSTALL sigFeature StartedAt: 2025-11-19 15:15:29 -0500 (Wed, 19 Nov 2025) EndedAt: 2025-11-19 15:15:39 -0500 (Wed, 19 Nov 2025) EllapsedTime: 10.0 seconds RetCode: 0 Status: OK