Package: simPIC Version: 1.7.0 Command: rm -rf simPIC.buildbin-libdir && mkdir simPIC.buildbin-libdir && /Users/biocbuild/BBS/utils/build-universal.sh simPIC_1.7.0.tar.gz /Library/Frameworks/R.framework/Resources/bin/R simPIC.buildbin-libdir StartedAt: 2025-11-25 00:00:30 -0500 (Tue, 25 Nov 2025) EndedAt: 2025-11-25 00:00:44 -0500 (Tue, 25 Nov 2025) EllapsedTime: 13.3 seconds RetCode: 0 Status: OK PackageFile: simPIC_1.7.0.tgz PackageFileSize: 6.086 MiB