Package: simPIC Version: 1.7.0 Command: /Library/Frameworks/R.framework/Resources/bin/R CMD build --keep-empty-dirs --no-resave-data simPIC StartedAt: 2025-11-25 17:41:35 -0500 (Tue, 25 Nov 2025) EndedAt: 2025-11-25 17:42:33 -0500 (Tue, 25 Nov 2025) EllapsedTime: 58.6 seconds RetCode: 0 Status: OK PackageFile: simPIC_1.7.0.tar.gz PackageFileSize: 5.34 MiB