Package: simPIC Version: 1.7.0 Command: /Library/Frameworks/R.framework/Resources/bin/R CMD INSTALL simPIC StartedAt: 2025-11-23 15:15:56 -0500 (Sun, 23 Nov 2025) EndedAt: 2025-11-23 15:16:06 -0500 (Sun, 23 Nov 2025) EllapsedTime: 10.1 seconds RetCode: 0 Status: OK