Package: smoothclust Version: 1.7.0 Command: /Library/Frameworks/R.framework/Resources/bin/R CMD INSTALL smoothclust StartedAt: 2025-11-19 15:33:05 -0500 (Wed, 19 Nov 2025) EndedAt: 2025-11-19 15:33:37 -0500 (Wed, 19 Nov 2025) EllapsedTime: 31.2 seconds RetCode: 0 Status: OK