Package: smoothclust Version: 1.7.0 Command: /home/biocbuild/bbs-3.23-bioc/R/bin/R CMD INSTALL smoothclust StartedAt: 2025-11-20 15:24:38 -0500 (Thu, 20 Nov 2025) EndedAt: 2025-11-20 15:25:00 -0500 (Thu, 20 Nov 2025) EllapsedTime: 22.5 seconds RetCode: 0 Status: OK