Package: sparseMatrixStats Version: 1.23.0 Command: /Library/Frameworks/R.framework/Resources/bin/R CMD build --keep-empty-dirs --no-resave-data sparseMatrixStats StartedAt: 2025-11-19 17:45:15 -0500 (Wed, 19 Nov 2025) EndedAt: 2025-11-19 17:45:30 -0500 (Wed, 19 Nov 2025) EllapsedTime: 14.2 seconds RetCode: 0 Status: OK PackageFile: sparseMatrixStats_1.23.0.tar.gz PackageFileSize: 687.6 KiB