Package: sparseMatrixStats Version: 1.23.0 Command: /Library/Frameworks/R.framework/Resources/bin/R CMD INSTALL sparseMatrixStats StartedAt: 2025-11-19 15:04:37 -0500 (Wed, 19 Nov 2025) EndedAt: 2025-11-19 15:04:45 -0500 (Wed, 19 Nov 2025) EllapsedTime: 8.6 seconds RetCode: 0 Status: OK