Package: sparseMatrixStats Version: 1.23.0 Command: /Library/Frameworks/R.framework/Resources/bin/R CMD build --keep-empty-dirs --no-resave-data sparseMatrixStats StartedAt: 2025-11-19 18:49:34 -0500 (Wed, 19 Nov 2025) EndedAt: 2025-11-19 18:50:09 -0500 (Wed, 19 Nov 2025) EllapsedTime: 35.4 seconds RetCode: 0 Status: OK PackageFile: sparseMatrixStats_1.23.0.tar.gz PackageFileSize: 687.6 KiB