Package: sparseMatrixStats Version: 1.23.0 Command: /Library/Frameworks/R.framework/Resources/bin/R CMD INSTALL sparseMatrixStats StartedAt: 2025-11-19 15:13:49 -0500 (Wed, 19 Nov 2025) EndedAt: 2025-11-19 15:14:10 -0500 (Wed, 19 Nov 2025) EllapsedTime: 21.4 seconds RetCode: 0 Status: OK