Package: spatialFDA Version: 1.3.1 Command: rm -rf spatialFDA.buildbin-libdir && mkdir spatialFDA.buildbin-libdir && /Users/biocbuild/BBS/utils/build-universal.sh spatialFDA_1.3.1.tar.gz /Library/Frameworks/R.framework/Resources/bin/R spatialFDA.buildbin-libdir StartedAt: 2025-11-19 23:54:27 -0500 (Wed, 19 Nov 2025) EndedAt: 2025-11-19 23:54:45 -0500 (Wed, 19 Nov 2025) EllapsedTime: 17.4 seconds RetCode: 0 Status: OK PackageFile: spatialFDA_1.3.1.tgz PackageFileSize: 6.955 MiB