Package: spatialFDA Version: 1.3.1 Command: /Library/Frameworks/R.framework/Resources/bin/R CMD build --keep-empty-dirs --no-resave-data spatialFDA StartedAt: 2025-11-19 17:46:09 -0500 (Wed, 19 Nov 2025) EndedAt: 2025-11-19 17:49:13 -0500 (Wed, 19 Nov 2025) EllapsedTime: 184.0 seconds RetCode: 0 Status: OK PackageFile: spatialFDA_1.3.1.tar.gz PackageFileSize: 6.871 MiB