Package: spatialFDA Version: 1.3.1 Command: /Library/Frameworks/R.framework/Resources/bin/R CMD INSTALL spatialFDA StartedAt: 2025-11-19 15:16:08 -0500 (Wed, 19 Nov 2025) EndedAt: 2025-11-19 15:16:22 -0500 (Wed, 19 Nov 2025) EllapsedTime: 14.3 seconds RetCode: 0 Status: OK