Package: spatialFDA Version: 1.3.1 Command: /home/biocbuild/bbs-3.23-bioc/R/bin/R CMD build --keep-empty-dirs --no-resave-data spatialFDA StartedAt: 2025-11-19 20:15:24 -0500 (Wed, 19 Nov 2025) EndedAt: 2025-11-19 20:21:41 -0500 (Wed, 19 Nov 2025) EllapsedTime: 376.3 seconds RetCode: 0 Status: OK PackageFile: spatialFDA_1.3.1.tar.gz PackageFileSize: 6.146 MiB